BEGIN:VCALENDAR
VERSION:2.0
PRODID:-//eventon.com NONSGML v1.0//EN
BEGIN:VEVENT
UID:69e65afd691d7
DTSTAMP:20260421T025733
DTSTART:20250410T140000Z
DTEND:20250412T135900Z
LOCATION:Pullman International Cairns 17 Abbott Street
SUMMARY:QBIC Annual Conference and Gala Dinner
DESCRIPTION: QBIC Annual Conference and Gala Dinner
END:VEVENT
END:VCALENDAR